BEGIN:VCALENDAR
VERSION:2.0
PRODID:-//hacksw/handcal//NONSGML v1.0//EN
BEGIN:VEVENT
SUMMARY:Entrainement avec Nicolas a 18h30 annule  cause rencontres par equipes
UID:0e4e3ac6-4d9a-4ba3-9f38-0f0af958b256
DTSTART:20260410T163000Z
DTEND:20260410T213000Z
LOCATION:Localisation   
CATEGORIES:Sportif
STATUS:
DESCRIPTION:<p>La salle doit etre liberee a 18h30. </p>
URL;VALUE=URI:https://www.asvtt.fr/evenements/2026/04/10/entrainement-avec-nicolas-a-18h30-annule-cause-rencontres-par-equipes-2439416
END:VEVENT
END:VCALENDAR
