BEGIN:VCALENDAR
VERSION:2.0
PRODID:-//hacksw/handcal//NONSGML v1.0//EN
BEGIN:VEVENT
SUMMARY:Coupe Feminine Departementale (Nice Dufy)
UID:e36e8c6b-68d5-446b-b584-fd848cae0b77
DTSTART:20260502T070000Z
DTEND:20260502T160000Z
LOCATION:Localisation Gymnase Raoul Dufy, av Raoul Dufy 06000 Nice
CATEGORIES:Sportif
STATUS:
URL;VALUE=URI:https://www.asvtt.fr/evenements/2026/05/02/coupe-feminine-departementale-nice-dufy-2442004
END:VEVENT
END:VCALENDAR
