BEGIN:VCALENDAR
VERSION:2.0
PRODID:-//hacksw/handcal//NONSGML v1.0//EN
BEGIN:VEVENT
SUMMARY:Challenge des clubs "Patricia Sgro" (Nice Dufy)
UID:72d40b95-b52e-4613-ac73-6f6860ab7b8c
DTSTART:20260517T070000Z
DTEND:20260517T160000Z
LOCATION:Localisation   
CATEGORIES:Sportif
STATUS:
URL;VALUE=URI:https://www.asvtt.fr/evenements/2026/05/17/challenge-des-clubs-patricia-sgro-nice-dufy-2442005
END:VEVENT
END:VCALENDAR
