BEGIN:VCALENDAR
VERSION:2.0
PRODID:-//hacksw/handcal//NONSGML v1.0//EN
BEGIN:VEVENT
SUMMARY:Salle Falcoz indisponible a partir de 18h
UID:ce72510a-3924-47a9-b445-c40de51d09ce
DTSTART:20260612T160000Z
DTEND:20260612T213000Z
LOCATION:Localisation   
CATEGORIES:Sportif
STATUS:
DESCRIPTION:<p>Finales championnat 4x4 feminin de
 Volley-Ball </p>
 
 <p> </p>
URL;VALUE=URI:https://www.asvtt.fr/evenements/2026/06/12/salle-falcoz-indisponible-a-partir-de-18h-2439638
END:VEVENT
END:VCALENDAR
