BEGIN:VCALENDAR
VERSION:2.0
PRODID:-//hacksw/handcal//NONSGML v1.0//EN
BEGIN:VEVENT
SUMMARY:Candau indisponible (Evenement Passa Capoeira)
UID:2cbfef81-de21-4eaa-9cfa-2803e8ea9a2b
DTSTART:20260620T070000Z
DTEND:20260620T100000Z
LOCATION:Localisation   
CATEGORIES:Sportif
STATUS:
URL;VALUE=URI:https://www.asvtt.fr/evenements/2026/06/20/candau-indisponible-evenement-passa-capoeira-2444094
END:VEVENT
END:VCALENDAR
