BEGIN:VCALENDAR
VERSION:2.0
PRODID:-//hacksw/handcal//NONSGML v1.0//EN
BEGIN:VEVENT
SUMMARY:Forum des Associations
UID:8cc42605-4858-42ef-8840-c633c07cc79d
DTSTART:20260912T070000Z
DTEND:20260912T160000Z
LOCATION:Localisation   
CATEGORIES:Sportif
STATUS:
URL;VALUE=URI:https://www.asvtt.fr/evenements/2026/09/12/forum-des-associations-2443162
END:VEVENT
END:VCALENDAR
